BEGIN:VCALENDAR
VERSION:2.0
PRODID:-//The Garden Club of Georgia, Inc. - ECPv6.15.16.1//NONSGML v1.0//EN
CALSCALE:GREGORIAN
METHOD:PUBLISH
X-WR-CALNAME:The Garden Club of Georgia, Inc.
X-ORIGINAL-URL:https://gardenclubofgeorgia.org
X-WR-CALDESC:Events for The Garden Club of Georgia, Inc.
REFRESH-INTERVAL;VALUE=DURATION:PT1H
X-Robots-Tag:noindex
X-PUBLISHED-TTL:PT1H
BEGIN:VTIMEZONE
TZID:America/New_York
BEGIN:DAYLIGHT
TZOFFSETFROM:-0500
TZOFFSETTO:-0400
TZNAME:EDT
DTSTART:20250309T070000
END:DAYLIGHT
BEGIN:STANDARD
TZOFFSETFROM:-0400
TZOFFSETTO:-0500
TZNAME:EST
DTSTART:20251102T060000
END:STANDARD
BEGIN:DAYLIGHT
TZOFFSETFROM:-0500
TZOFFSETTO:-0400
TZNAME:EDT
DTSTART:20260308T070000
END:DAYLIGHT
BEGIN:STANDARD
TZOFFSETFROM:-0400
TZOFFSETTO:-0500
TZNAME:EST
DTSTART:20261101T060000
END:STANDARD
BEGIN:DAYLIGHT
TZOFFSETFROM:-0500
TZOFFSETTO:-0400
TZNAME:EDT
DTSTART:20270314T070000
END:DAYLIGHT
BEGIN:STANDARD
TZOFFSETFROM:-0400
TZOFFSETTO:-0500
TZNAME:EST
DTSTART:20271107T060000
END:STANDARD
END:VTIMEZONE
BEGIN:VEVENT
DTSTART;VALUE=DATE:20260417
DTEND;VALUE=DATE:20260420
DTSTAMP:20260420T040650
CREATED:20250730T182435Z
LAST-MODIFIED:20250730T182757Z
UID:10003708-1776384000-1776643199@gardenclubofgeorgia.org
SUMMARY:Valdosta Council Flower Show 2026
DESCRIPTION:SAVE THE DATE\nApril 17-19\, 2026\, the Garden Center of Valdosta will present a Small Standard Flower Show. \nFurther details to follow. \n 
URL:https://gardenclubofgeorgia.org/event/valdosta-council-flower-show-2026/
LOCATION:Crescent Garden Center of Valdosta\, 904 N. Patterson St.\, Valdosta\, GA\, 31601
CATEGORIES:Camellia District
END:VEVENT
BEGIN:VEVENT
DTSTART;TZID=America/New_York:20260417T090000
DTEND;TZID=America/New_York:20260417T210000
DTSTAMP:20260420T040650
CREATED:20260211T153605Z
LAST-MODIFIED:20260211T153933Z
UID:10003827-1776416400-1776459600@gardenclubofgeorgia.org
SUMMARY:Stonehedge Garden Club presents Blossoms of Liberty Flower Show
DESCRIPTION:The Stonehedge Garden Club Presents \nBlossoms of Liberty \nCelebrating America’s 250th Anniversary \nAn NGC Small Standard Flower Show \nApril 16-18\, 2026 \nFREE AND OPEN TO THE PUBLIC \nGwinnett Environmental & Heritage Center\n2020 Clean Water Drive\nBuford\, GA 30519 \nLink to Flyer \n 
URL:https://gardenclubofgeorgia.org/event/stonehedge-garden-club-presents-blossoms-of-liberty-flower-show/2026-04-17/
LOCATION:Gwinnett Environmental & Heritage Center\, 2020 Clean Water Drive\, Buford\, Georgia\, 30519
CATEGORIES:Laurel District
END:VEVENT
BEGIN:VEVENT
DTSTART;TZID=America/New_York:20260417T100000
DTEND;TZID=America/New_York:20260417T160000
DTSTAMP:20260420T040650
CREATED:20260112T183819Z
LAST-MODIFIED:20260112T183949Z
UID:10003795-1776420000-1776441600@gardenclubofgeorgia.org
SUMMARY:The Garden Club of Savannah NOGS Tour of Hidden Gardens 2026
DESCRIPTION:Ticket Sales January 1\, 2026\ngardenclubofsavannah.org \nThis year’s theme is Entertaining Savannah Style \nFollow us on Facebook and Instagram for the most up-to-date information on the NOGS Tour\, gardening in Savannah and Savannah insider tips on how to enjoy your next visit. \nThis special Tour unlocks the garden gates of selected private gardens and historic gardens for self-guided exploration. Ticket holders will enjoy springtime gardens located in Savannah’s Landmark Historic District\, which is the largest in the United States. All the gardens are located in the area North of Gaston Street (NOGS) to the Savannah River. As part of the Tour\, guests are invited to a sampling of Entertaining Savannah Style at the Harper-Fowlkes House\, on Orleans Square. It is one of the South’s finest examples of Greek Revival architecture. Proceeds from the Tour are donated to garden-related organizations throughout the Savannah area thanks to your generous support. Garden Club of Savannah: Sharing the Art of Southern Hospitality with our guests for nearly 50 years. \nGroup Reservations: nogsgardentourtickets@gmail.com\nEmail to arrange groups purchase pricing for 20 or more
URL:https://gardenclubofgeorgia.org/event/the-garden-club-of-savannah-nogs-tour-of-hidden-gardens-april-17-and-18-2026/2026-04-17/
LOCATION:Harper Fowlkes House\, 230 Barnard St\, Savannah\, GA\, 31401\, United States
CATEGORIES:Oleander District
END:VEVENT
BEGIN:VEVENT
DTSTART;TZID=America/New_York:20260417T130000
DTEND;TZID=America/New_York:20260417T170000
DTSTAMP:20260420T040650
CREATED:20260315T192805Z
LAST-MODIFIED:20260315T195901Z
UID:10003839-1776430800-1776445200@gardenclubofgeorgia.org
SUMMARY:Lullwater Garden Club Plant Sale
DESCRIPTION:Lullwater Garden Club will hold their Annual Plant Sale located in the Lullwater Conservation Garden – 845 Lullwater Road\, NE Atlanta\, GA 30307. \nThey will be selling home grown annuals\, perennials\, heirloom tomatoes and their ever-popular moon vines. \nFriday\, April 17: 1pm-5pm\nSaturday\, April 18: 10am-5pm\nSunday\, April 19: 1pm-5pm \nNature Scavenger Hunt for children of all ages will be held on Saturday at 10AM \nGuided Garden Tours on Friday\, Saturday and Sunday at 2PM. by expert Druid Hills Historian – Jennie Richardson who will share the history\, horticulture and special\nfeatures of the garden.\nAll proceeds from the plant sale are used for the care of Lullwater Conservation Garden. \nFor more information Lullwater Conservation Garden \nLullwater Conservation Garden
URL:https://gardenclubofgeorgia.org/event/lullwater-garden-club-plant-sale-2/2026-04-17/
LOCATION:Lullwater Conservation Garden\, 845 Lullwater Road NE\, Atlanta\, GA\, 30307\, United States
CATEGORIES:Redbud District
END:VEVENT
END:VCALENDAR