BEGIN:VCALENDAR
VERSION:2.0
PRODID:-//The Garden Club of Georgia, Inc. - ECPv6.15.16.1//NONSGML v1.0//EN
CALSCALE:GREGORIAN
METHOD:PUBLISH
X-ORIGINAL-URL:https://gardenclubofgeorgia.org
X-WR-CALDESC:Events for The Garden Club of Georgia, Inc.
REFRESH-INTERVAL;VALUE=DURATION:PT1H
X-Robots-Tag:noindex
X-PUBLISHED-TTL:PT1H
BEGIN:VTIMEZONE
TZID:America/New_York
BEGIN:DAYLIGHT
TZOFFSETFROM:-0500
TZOFFSETTO:-0400
TZNAME:EDT
DTSTART:20250309T070000
END:DAYLIGHT
BEGIN:STANDARD
TZOFFSETFROM:-0400
TZOFFSETTO:-0500
TZNAME:EST
DTSTART:20251102T060000
END:STANDARD
BEGIN:DAYLIGHT
TZOFFSETFROM:-0500
TZOFFSETTO:-0400
TZNAME:EDT
DTSTART:20260308T070000
END:DAYLIGHT
BEGIN:STANDARD
TZOFFSETFROM:-0400
TZOFFSETTO:-0500
TZNAME:EST
DTSTART:20261101T060000
END:STANDARD
BEGIN:DAYLIGHT
TZOFFSETFROM:-0500
TZOFFSETTO:-0400
TZNAME:EDT
DTSTART:20270314T070000
END:DAYLIGHT
BEGIN:STANDARD
TZOFFSETFROM:-0400
TZOFFSETTO:-0500
TZNAME:EST
DTSTART:20271107T060000
END:STANDARD
END:VTIMEZONE
BEGIN:VEVENT
DTSTART;VALUE=DATE:20260419
DTEND;VALUE=DATE:20260426
DTSTAMP:20260420T041702
CREATED:20250811T202613Z
LAST-MODIFIED:20250811T202613Z
UID:10003711-1776556800-1777161599@gardenclubofgeorgia.org
SUMMARY:Garden Week in Georgia 2026
DESCRIPTION:Garden Week is usually held the third week in April. The Georgia Department of Economic Development is partnering with GCG to encourage tourism by promoting garden tours and gardening events during this week. Advertise Garden Week in Georgia at your local nurseries\, grocery stores\, library and churches. \nFor more details
URL:https://gardenclubofgeorgia.org/event/garden-week-in-georgia-2026/
LOCATION:GA
CATEGORIES:Garden Club of Georgia
END:VEVENT
BEGIN:VEVENT
DTSTART;TZID=America/New_York:20260423T100000
DTEND;TZID=America/New_York:20260423T190000
DTSTAMP:20260420T041702
CREATED:20260227T180237Z
LAST-MODIFIED:20260227T180237Z
UID:10003832-1776938400-1776970800@gardenclubofgeorgia.org
SUMMARY:Norcross Garden Club Annual Plant Sale
DESCRIPTION:Norcross Garden Club Annual Plant Sale\nApril 23rd and 24th 10-7 and April 25th 10-2\nHeritage Park and 33 College St Norcross\, Ga 30071
URL:https://gardenclubofgeorgia.org/event/norcross-garden-club-annual-plant-sale/2026-04-23/
LOCATION:Norcross Garden Club Clubhouse\, 33 College St.\, Norcross\, GA\, 30071
CATEGORIES:Dogwood District
ORGANIZER;CN="Norcross Garden Club":MAILTO:NorcrossGarden@gmail.com
END:VEVENT
BEGIN:VEVENT
DTSTART;TZID=America/New_York:20260424T100000
DTEND;TZID=America/New_York:20260424T190000
DTSTAMP:20260420T041702
CREATED:20260227T180237Z
LAST-MODIFIED:20260227T180237Z
UID:10003833-1777024800-1777057200@gardenclubofgeorgia.org
SUMMARY:Norcross Garden Club Annual Plant Sale
DESCRIPTION:Norcross Garden Club Annual Plant Sale\nApril 23rd and 24th 10-7 and April 25th 10-2\nHeritage Park and 33 College St Norcross\, Ga 30071
URL:https://gardenclubofgeorgia.org/event/norcross-garden-club-annual-plant-sale/2026-04-24/
LOCATION:Norcross Garden Club Clubhouse\, 33 College St.\, Norcross\, GA\, 30071
CATEGORIES:Dogwood District
ORGANIZER;CN="Norcross Garden Club":MAILTO:NorcrossGarden@gmail.com
END:VEVENT
BEGIN:VEVENT
DTSTART;TZID=America/New_York:20260425T080000
DTEND;TZID=America/New_York:20260425T170000
DTSTAMP:20260420T041702
CREATED:20260116T212908Z
LAST-MODIFIED:20260315T183914Z
UID:10003798-1777104000-1777136400@gardenclubofgeorgia.org
SUMMARY:Flower Fantasy at Pineola Farms
DESCRIPTION:Mark your calendars for another fun and exciting fundraiser event! \nThe Magnolia Garden Club of Fort Valley\, Georgia\, is proud to host its fourth Flower Fantasy at the beautiful historic Pineola Farms. \nDate: April 25–26\, 2026 \nTheme: Recycle & Repurpose – Treating Our Environment Better \nThis year’s event will feature creative\, meaningful floral designs that are fresh\, different\, and inspiring—all centered on our environmental theme. You’ll also enjoy additional educational programs throughout the weekend\, including: \nThe ease and benefits of composting\nThe importance of worms and other natural helpers\nPractical ways to protect\, preserve\, and enhance our environment \nJoin us for a delightful day (or two!) touring the stunning historic property\, admiring unique floral installations\, shopping with vendors\, and learning how to be better stewards of our planet.\nA percentage of the funds raised will support scholarships through the Garden Club of Georgia and the Sensory Garden at Massee Lane Gardens. \nWe can’t wait to see you there—let’s celebrate flowers\, creativity\, and a greener future together!\nPineola Farms – 1195 Taylors Mill Rd. Fort Valley\, GA 31030  478-227-2084 \n \nTICKET INFORMATION: https://www.pineola.com/events
URL:https://gardenclubofgeorgia.org/event/flower-fantasy-at-pineola-farms/2026-04-25/
LOCATION:Pineola Farms\, 1195 Taylors Mill Road\, Fort Valley\, Georgia\, 31030
CATEGORIES:Magnolia District
END:VEVENT
BEGIN:VEVENT
DTSTART;TZID=America/New_York:20260425T100000
DTEND;TZID=America/New_York:20260425T140000
DTSTAMP:20260420T041702
CREATED:20260227T180237Z
LAST-MODIFIED:20260227T180237Z
UID:10003834-1777111200-1777125600@gardenclubofgeorgia.org
SUMMARY:Norcross Garden Club Annual Plant Sale
DESCRIPTION:Norcross Garden Club Annual Plant Sale\nApril 23rd and 24th 10-7 and April 25th 10-2\nHeritage Park and 33 College St Norcross\, Ga 30071
URL:https://gardenclubofgeorgia.org/event/norcross-garden-club-annual-plant-sale/2026-04-25/
LOCATION:Norcross Garden Club Clubhouse\, 33 College St.\, Norcross\, GA\, 30071
CATEGORIES:Dogwood District
ORGANIZER;CN="Norcross Garden Club":MAILTO:NorcrossGarden@gmail.com
END:VEVENT
BEGIN:VEVENT
DTSTART;TZID=America/New_York:20260426T080000
DTEND;TZID=America/New_York:20260426T170000
DTSTAMP:20260420T041702
CREATED:20260116T212908Z
LAST-MODIFIED:20260315T183914Z
UID:10003799-1777190400-1777222800@gardenclubofgeorgia.org
SUMMARY:Flower Fantasy at Pineola Farms
DESCRIPTION:Mark your calendars for another fun and exciting fundraiser event! \nThe Magnolia Garden Club of Fort Valley\, Georgia\, is proud to host its fourth Flower Fantasy at the beautiful historic Pineola Farms. \nDate: April 25–26\, 2026 \nTheme: Recycle & Repurpose – Treating Our Environment Better \nThis year’s event will feature creative\, meaningful floral designs that are fresh\, different\, and inspiring—all centered on our environmental theme. You’ll also enjoy additional educational programs throughout the weekend\, including: \nThe ease and benefits of composting\nThe importance of worms and other natural helpers\nPractical ways to protect\, preserve\, and enhance our environment \nJoin us for a delightful day (or two!) touring the stunning historic property\, admiring unique floral installations\, shopping with vendors\, and learning how to be better stewards of our planet.\nA percentage of the funds raised will support scholarships through the Garden Club of Georgia and the Sensory Garden at Massee Lane Gardens. \nWe can’t wait to see you there—let’s celebrate flowers\, creativity\, and a greener future together!\nPineola Farms – 1195 Taylors Mill Rd. Fort Valley\, GA 31030  478-227-2084 \n \nTICKET INFORMATION: https://www.pineola.com/events
URL:https://gardenclubofgeorgia.org/event/flower-fantasy-at-pineola-farms/2026-04-26/
LOCATION:Pineola Farms\, 1195 Taylors Mill Road\, Fort Valley\, Georgia\, 31030
CATEGORIES:Magnolia District
END:VEVENT
BEGIN:VEVENT
DTSTART;TZID=America/New_York:20260426T130000
DTEND;TZID=America/New_York:20260426T160000
DTSTAMP:20260420T041702
CREATED:20260416T230744Z
LAST-MODIFIED:20260417T140902Z
UID:10003849-1777208400-1777219200@gardenclubofgeorgia.org
SUMMARY:Ladies Garden Club Native Plant Sale
DESCRIPTION:Ladies’ Garden Club Native Plant Sale \nSupports scholarships for Georgia students. \nWhen: Sunday\, April 26\, 1 pm-4 pm \nWhere: Creature Comforts Brewing Co. \n271 West Hancock Ave\, Athens\, GA 30601
URL:https://gardenclubofgeorgia.org/event/ladies-garden-club-native-plant-sale/
LOCATION:Creature Comforts Brewing Co\, 271 West Hancock Ave\, Athens\, Georgia\, 30601
CATEGORIES:Azalea District
END:VEVENT
BEGIN:VEVENT
DTSTART;TZID=America/New_York:20260428T080000
DTEND;TZID=America/New_York:20260428T170000
DTSTAMP:20260420T041702
CREATED:20260130T201932Z
LAST-MODIFIED:20260304T163223Z
UID:10003813-1777363200-1777395600@gardenclubofgeorgia.org
SUMMARY:NGC Environmental School Course III (Zoom)
DESCRIPTION:NGC Environmental School Course III\n April 28-29\, 2026\n\nRegistration is OPEN! Registration April 17\, 2026\n\nCourse Brochure\nOnline registration only at this link:  \nhttps://forms.gle/e6QPcmFaAKanjLf78 \nDuring the online registration\, please follow instructions for sending payment via Zelle or mailing a check.
URL:https://gardenclubofgeorgia.org/event/ngc-environmental-school-course-iii/2026-04-28/
LOCATION:Zoom
CATEGORIES:Garden Club of Georgia
END:VEVENT
BEGIN:VEVENT
DTSTART;TZID=America/New_York:20260429T080000
DTEND;TZID=America/New_York:20260429T170000
DTSTAMP:20260420T041702
CREATED:20260130T201932Z
LAST-MODIFIED:20260304T163223Z
UID:10003814-1777449600-1777482000@gardenclubofgeorgia.org
SUMMARY:NGC Environmental School Course III (Zoom)
DESCRIPTION:NGC Environmental School Course III\n April 28-29\, 2026\n\nRegistration is OPEN! Registration April 17\, 2026\n\nCourse Brochure\nOnline registration only at this link:  \nhttps://forms.gle/e6QPcmFaAKanjLf78 \nDuring the online registration\, please follow instructions for sending payment via Zelle or mailing a check.
URL:https://gardenclubofgeorgia.org/event/ngc-environmental-school-course-iii/2026-04-29/
LOCATION:Zoom
CATEGORIES:Garden Club of Georgia
END:VEVENT
END:VCALENDAR