BEGIN:VCALENDAR
VERSION:2.0
PRODID:-//The Garden Club of Georgia, Inc. - ECPv6.15.16.1//NONSGML v1.0//EN
CALSCALE:GREGORIAN
METHOD:PUBLISH
X-WR-CALNAME:The Garden Club of Georgia, Inc.
X-ORIGINAL-URL:https://gardenclubofgeorgia.org
X-WR-CALDESC:Events for The Garden Club of Georgia, Inc.
REFRESH-INTERVAL;VALUE=DURATION:PT1H
X-Robots-Tag:noindex
X-PUBLISHED-TTL:PT1H
BEGIN:VTIMEZONE
TZID:America/New_York
BEGIN:DAYLIGHT
TZOFFSETFROM:-0500
TZOFFSETTO:-0400
TZNAME:EDT
DTSTART:20250309T070000
END:DAYLIGHT
BEGIN:STANDARD
TZOFFSETFROM:-0400
TZOFFSETTO:-0500
TZNAME:EST
DTSTART:20251102T060000
END:STANDARD
BEGIN:DAYLIGHT
TZOFFSETFROM:-0500
TZOFFSETTO:-0400
TZNAME:EDT
DTSTART:20260308T070000
END:DAYLIGHT
BEGIN:STANDARD
TZOFFSETFROM:-0400
TZOFFSETTO:-0500
TZNAME:EST
DTSTART:20261101T060000
END:STANDARD
BEGIN:DAYLIGHT
TZOFFSETFROM:-0500
TZOFFSETTO:-0400
TZNAME:EDT
DTSTART:20270314T070000
END:DAYLIGHT
BEGIN:STANDARD
TZOFFSETFROM:-0400
TZOFFSETTO:-0500
TZNAME:EST
DTSTART:20271107T060000
END:STANDARD
BEGIN:DAYLIGHT
TZOFFSETFROM:-0500
TZOFFSETTO:-0400
TZNAME:EDT
DTSTART:20280312T070000
END:DAYLIGHT
BEGIN:STANDARD
TZOFFSETFROM:-0400
TZOFFSETTO:-0500
TZNAME:EST
DTSTART:20281105T060000
END:STANDARD
END:VTIMEZONE
BEGIN:VEVENT
DTSTART;TZID=America/New_York:20260804T100000
DTEND;TZID=America/New_York:20260804T140000
DTSTAMP:20260421T082758
CREATED:20250402T160202Z
LAST-MODIFIED:20260130T194252Z
UID:10003673-1785837600-1785852000@gardenclubofgeorgia.org
SUMMARY:Azalea District Executive Committee Meeting
DESCRIPTION:The Azalea District Executive Board will meet in Athens at GCG Headquarters.\n 
URL:https://gardenclubofgeorgia.org/event/azalea-district-executive-committee-meeting-2/2026-08-04/
LOCATION:Garden Club of Georgia Headquarters\, 2450 S. Milledge Ave.\, Athens\, Georgia\, 30602
CATEGORIES:Azalea District
ATTACH;FMTTYPE=image/jpeg:https://gardenclubofgeorgia.org/wp-content/uploads/2023/03/Azalea-District-logo-2016-jpg-e1734646048681.jpg
END:VEVENT
BEGIN:VEVENT
DTSTART;TZID=America/New_York:20270202T080000
DTEND;TZID=America/New_York:20270202T170000
DTSTAMP:20260421T082758
CREATED:20250402T160202Z
LAST-MODIFIED:20260130T194252Z
UID:10003674-1801555200-1801587600@gardenclubofgeorgia.org
SUMMARY:Azalea District Executive Committee Meeting
DESCRIPTION:The Azalea District Executive Board will meet in Athens at GCG Headquarters.\n 
URL:https://gardenclubofgeorgia.org/event/azalea-district-executive-committee-meeting-2/2027-02-02/
LOCATION:Garden Club of Georgia Headquarters\, 2450 S. Milledge Ave.\, Athens\, Georgia\, 30602
CATEGORIES:Azalea District
ATTACH;FMTTYPE=image/jpeg:https://gardenclubofgeorgia.org/wp-content/uploads/2023/03/Azalea-District-logo-2016-jpg-e1734646048681.jpg
END:VEVENT
END:VCALENDAR