BEGIN:VCALENDAR
VERSION:2.0
PRODID:-//The Garden Club of Georgia, Inc. - ECPv6.15.16.1//NONSGML v1.0//EN
CALSCALE:GREGORIAN
METHOD:PUBLISH
X-ORIGINAL-URL:https://gardenclubofgeorgia.org
X-WR-CALDESC:Events for The Garden Club of Georgia, Inc.
REFRESH-INTERVAL;VALUE=DURATION:PT1H
X-Robots-Tag:noindex
X-PUBLISHED-TTL:PT1H
BEGIN:VTIMEZONE
TZID:America/New_York
BEGIN:DAYLIGHT
TZOFFSETFROM:-0500
TZOFFSETTO:-0400
TZNAME:EDT
DTSTART:20220313T070000
END:DAYLIGHT
BEGIN:STANDARD
TZOFFSETFROM:-0400
TZOFFSETTO:-0500
TZNAME:EST
DTSTART:20221106T060000
END:STANDARD
BEGIN:DAYLIGHT
TZOFFSETFROM:-0500
TZOFFSETTO:-0400
TZNAME:EDT
DTSTART:20230312T070000
END:DAYLIGHT
BEGIN:STANDARD
TZOFFSETFROM:-0400
TZOFFSETTO:-0500
TZNAME:EST
DTSTART:20231105T060000
END:STANDARD
BEGIN:DAYLIGHT
TZOFFSETFROM:-0500
TZOFFSETTO:-0400
TZNAME:EDT
DTSTART:20240310T070000
END:DAYLIGHT
BEGIN:STANDARD
TZOFFSETFROM:-0400
TZOFFSETTO:-0500
TZNAME:EST
DTSTART:20241103T060000
END:STANDARD
END:VTIMEZONE
BEGIN:VEVENT
DTSTART;TZID=America/New_York:20230423T100000
DTEND;TZID=America/New_York:20230423T140000
DTSTAMP:20260421T215553
CREATED:20230302T200630Z
LAST-MODIFIED:20230302T200702Z
UID:10001295-1682244000-1682258400@gardenclubofgeorgia.org
SUMMARY:Alpharetta Garden Club Plant Sale
DESCRIPTION:Join the Alpharetta Garden Club for its public plant sale at Mansell House and Gardens.
URL:https://gardenclubofgeorgia.org/event/alpharetta-garden-club-plant-sale/2023-04-23/
LOCATION:Mansell House and Gardens\, 1835 Old Milton Parkway\, Alpharetta\, Georgia\, 30009
CATEGORIES:Dogwood District
END:VEVENT
BEGIN:VEVENT
DTSTART;TZID=America/New_York:20230422T100000
DTEND;TZID=America/New_York:20230422T140000
DTSTAMP:20260421T215553
CREATED:20230302T200630Z
LAST-MODIFIED:20230302T200702Z
UID:10001294-1682157600-1682172000@gardenclubofgeorgia.org
SUMMARY:Alpharetta Garden Club Plant Sale
DESCRIPTION:Join the Alpharetta Garden Club for its public plant sale at Mansell House and Gardens.
URL:https://gardenclubofgeorgia.org/event/alpharetta-garden-club-plant-sale/2023-04-22/
LOCATION:Mansell House and Gardens\, 1835 Old Milton Parkway\, Alpharetta\, Georgia\, 30009
CATEGORIES:Dogwood District
END:VEVENT
END:VCALENDAR