BEGIN:VCALENDAR
VERSION:2.0
PRODID:-//The Garden Club of Georgia, Inc. - ECPv6.15.16.1//NONSGML v1.0//EN
CALSCALE:GREGORIAN
METHOD:PUBLISH
X-WR-CALNAME:The Garden Club of Georgia, Inc.
X-ORIGINAL-URL:https://gardenclubofgeorgia.org
X-WR-CALDESC:Events for The Garden Club of Georgia, Inc.
REFRESH-INTERVAL;VALUE=DURATION:PT1H
X-Robots-Tag:noindex
X-PUBLISHED-TTL:PT1H
BEGIN:VTIMEZONE
TZID:America/New_York
BEGIN:DAYLIGHT
TZOFFSETFROM:-0500
TZOFFSETTO:-0400
TZNAME:EDT
DTSTART:20220313T070000
END:DAYLIGHT
BEGIN:STANDARD
TZOFFSETFROM:-0400
TZOFFSETTO:-0500
TZNAME:EST
DTSTART:20221106T060000
END:STANDARD
BEGIN:DAYLIGHT
TZOFFSETFROM:-0500
TZOFFSETTO:-0400
TZNAME:EDT
DTSTART:20230312T070000
END:DAYLIGHT
BEGIN:STANDARD
TZOFFSETFROM:-0400
TZOFFSETTO:-0500
TZNAME:EST
DTSTART:20231105T060000
END:STANDARD
BEGIN:DAYLIGHT
TZOFFSETFROM:-0500
TZOFFSETTO:-0400
TZNAME:EDT
DTSTART:20240310T070000
END:DAYLIGHT
BEGIN:STANDARD
TZOFFSETFROM:-0400
TZOFFSETTO:-0500
TZNAME:EST
DTSTART:20241103T060000
END:STANDARD
BEGIN:DAYLIGHT
TZOFFSETFROM:-0500
TZOFFSETTO:-0400
TZNAME:EDT
DTSTART:20250309T070000
END:DAYLIGHT
BEGIN:STANDARD
TZOFFSETFROM:-0400
TZOFFSETTO:-0500
TZNAME:EST
DTSTART:20251102T060000
END:STANDARD
BEGIN:DAYLIGHT
TZOFFSETFROM:-0500
TZOFFSETTO:-0400
TZNAME:EDT
DTSTART:20260308T070000
END:DAYLIGHT
BEGIN:STANDARD
TZOFFSETFROM:-0400
TZOFFSETTO:-0500
TZNAME:EST
DTSTART:20261101T060000
END:STANDARD
BEGIN:DAYLIGHT
TZOFFSETFROM:-0500
TZOFFSETTO:-0400
TZNAME:EDT
DTSTART:20270314T070000
END:DAYLIGHT
BEGIN:STANDARD
TZOFFSETFROM:-0400
TZOFFSETTO:-0500
TZNAME:EST
DTSTART:20271107T060000
END:STANDARD
END:VTIMEZONE
BEGIN:VTIMEZONE
TZID:UTC
BEGIN:STANDARD
TZOFFSETFROM:+0000
TZOFFSETTO:+0000
TZNAME:UTC
DTSTART:20210101T000000
END:STANDARD
END:VTIMEZONE
BEGIN:VEVENT
DTSTART;TZID=America/New_York:20260217T093000
DTEND;TZID=America/New_York:20260217T140000
DTSTAMP:20260421T083120
CREATED:20250402T173811Z
LAST-MODIFIED:20260202T194417Z
UID:10003676-1771320600-1771336800@gardenclubofgeorgia.org
SUMMARY:Azalea District Winter Board Meeting 2026
DESCRIPTION:The Azalea District Winter Board Meeting 2026 will be held in Hartwell\, GA.\nAll Azalea District Board Members\, including all officers\, chairmen\, club or council presidents and club members are cordially invited to attend the Azalea District Winter Board Meeting.\nOur meeting falls on Mardi Gras (Fat Tuesday)\, you are encouraged to wear green\, purple or gold. \nTuesday – February 17\, 2026\n9:30 AM – 2:00 PM\nCasa Grande\n392 E. Franklin St.\nHartwell\, GA 30643\nHosted by Nancy Hart and Pine Tree Garden Clubs \nWinter Board Meeting Call Letter and Registration
URL:https://gardenclubofgeorgia.org/event/azalea-district-winter-board-meeting-2026/
LOCATION:Casa Grande\, 392 E. Franklin St.\, Hartwell\, GA\, 30643
CATEGORIES:Azalea District
ATTACH;FMTTYPE=image/jpeg:https://gardenclubofgeorgia.org/wp-content/uploads/2023/03/Azalea-District-logo-2016-jpg-e1734646048681.jpg
END:VEVENT
BEGIN:VEVENT
DTSTART;TZID=America/New_York:20260203T130000
DTEND;TZID=America/New_York:20260203T150000
DTSTAMP:20260421T083120
CREATED:20260130T195104Z
LAST-MODIFIED:20260130T195104Z
UID:10003805-1770123600-1770130800@gardenclubofgeorgia.org
SUMMARY:Azalea District Executive Committee Winter Meeting
DESCRIPTION:The Azalea District’s Executive Committee will meet on Tuesday\, February 3rd\, 2026\, at 1:00 pm at the Stewart Center in Crawfordville\, Georgia.
URL:https://gardenclubofgeorgia.org/event/azalea-district-executive-committee-winter-meeting/
LOCATION:Stewart Center\, 131 Broad Street\, Crawfordville\, Georgia\, 30631
CATEGORIES:Azalea District
ATTACH;FMTTYPE=image/jpeg:https://gardenclubofgeorgia.org/wp-content/uploads/2023/03/Azalea-District-logo-2016-jpg-e1734646048681.jpg
END:VEVENT
BEGIN:VEVENT
DTSTART;TZID=America/New_York:20250819T093000
DTEND;TZID=America/New_York:20250819T140000
DTSTAMP:20260421T083120
CREATED:20250402T171808Z
LAST-MODIFIED:20250711T161950Z
UID:10003675-1755595800-1755612000@gardenclubofgeorgia.org
SUMMARY:Azalea District Summer Board Meeting 2025
DESCRIPTION:The Azalea District Summer Board Meeting 2025 will be held in Union Point\, GA.\nAll Azalea District Board Members\, including all officers\, chairmen\, club or council presidents and club members are cordially invited to attend the Azalea District Summer Board Meeting. \nTuesday – August 19\, 2025\nUnion Point Community Center\n707 Hart Avenue\nUnion Point\, GA 30669\nHosted by Union Point Garden Club \nCOMMITTEE CHAIRMEN\, SO YOU ARE IN THE KNOW!\nEach Committee Chairman will have the opportunity to briefly introduce themself and share information about their area of responsibility. \nClick here for registration form. \n 
URL:https://gardenclubofgeorgia.org/event/azalea-district-summer-board-meeting-2025/
LOCATION:Union Point\, Georgia\, Union Point\, GA\, United States
CATEGORIES:Azalea District
ATTACH;FMTTYPE=image/jpeg:https://gardenclubofgeorgia.org/wp-content/uploads/2023/03/Azalea-District-logo-2016-jpg-e1734646048681.jpg
END:VEVENT
BEGIN:VEVENT
DTSTART;TZID=America/New_York:20250805T100000
DTEND;TZID=America/New_York:20250805T140000
DTSTAMP:20260421T083120
CREATED:20250402T160202Z
LAST-MODIFIED:20260130T194252Z
UID:10003671-1754388000-1754402400@gardenclubofgeorgia.org
SUMMARY:Azalea District Executive Committee Meeting
DESCRIPTION:The Azalea District Executive Board will meet in Athens at GCG Headquarters.\n 
URL:https://gardenclubofgeorgia.org/event/azalea-district-executive-committee-meeting-2/2025-08-05/
LOCATION:Garden Club of Georgia Headquarters\, 2450 S. Milledge Ave.\, Athens\, Georgia\, 30602
CATEGORIES:Azalea District
ATTACH;FMTTYPE=image/jpeg:https://gardenclubofgeorgia.org/wp-content/uploads/2023/03/Azalea-District-logo-2016-jpg-e1734646048681.jpg
END:VEVENT
BEGIN:VEVENT
DTSTART;TZID=America/New_York:20250429T120000
DTEND;TZID=America/New_York:20250430T140000
DTSTAMP:20260421T083120
CREATED:20230501T165947Z
LAST-MODIFIED:20250127T233411Z
UID:10001326-1745928000-1746021600@gardenclubofgeorgia.org
SUMMARY:Garden Club of Georgia 97th Annual Convention 2025
DESCRIPTION:The Garden Club of Georgia will host the 2025 annual convention in Augusta\, Georgia. Pre and post seminars are available. \nFor more details and to register for this event visit the Annual Conventions page.
URL:https://gardenclubofgeorgia.org/event/garden-club-of-georgia-97th-annual-convention-2025/
LOCATION:Riverfront Marriott\, 2 10th St\, Augusta\, GA\, 30901
CATEGORIES:Azalea District,Garden Club of Georgia
END:VEVENT
BEGIN:VEVENT
DTSTART;TZID=America/New_York:20250204T100000
DTEND;TZID=America/New_York:20250204T140000
DTSTAMP:20260421T083120
CREATED:20241219T220919Z
LAST-MODIFIED:20241219T220919Z
UID:10001340-1738663200-1738677600@gardenclubofgeorgia.org
SUMMARY:Azalea District Executive Board Winter Meeting
DESCRIPTION:
URL:https://gardenclubofgeorgia.org/event/azalea-district-executive-board-winter-meeting/
LOCATION:Garden Club of Georgia Headquarters\, 2450 S. Milledge Ave.\, Athens\, Georgia\, 30602
CATEGORIES:Azalea District,Garden Club of Georgia
ATTACH;FMTTYPE=image/jpeg:https://gardenclubofgeorgia.org/wp-content/uploads/2023/03/Azalea-District-logo-2016-jpg-e1734646048681.jpg
END:VEVENT
BEGIN:VEVENT
DTSTART;TZID=America/New_York:20240820T093000
DTEND;TZID=America/New_York:20240820T130000
DTSTAMP:20260421T083120
CREATED:20230517T213828Z
LAST-MODIFIED:20240801T133545Z
UID:10001339-1724146200-1724158800@gardenclubofgeorgia.org
SUMMARY:Azalea District Summer Board Meeting 2024
DESCRIPTION:All Azalea District Board Members and Officers\, Chairpersons\, and Club/Council Presidents are invited to attend. \n\nREGISTRATION AND REFRESHMENTS 9:30 AM\nMEETING 10:00 AM\nLUNCHEON 12:00 PM\n\nREGISTRATION FEE: $35 POSTMARKED BY AUGUST 13 \nLATE REGISTRATION FEE IS $40 \nAzalea Summer Board Meeting 2024 Registration
URL:https://gardenclubofgeorgia.org/event/azalea-district-summer-board-meeting-2024/
LOCATION:WASHINGTON-WILKES COUNTRY CLUB\, 300 COUNTRY CLUB DRIVE\, Washington\, Georgia\, 30673
CATEGORIES:Azalea District
ATTACH;FMTTYPE=image/png:https://gardenclubofgeorgia.org/wp-content/uploads/2024/08/Azalea-Call-Letter.png
END:VEVENT
BEGIN:VEVENT
DTSTART;TZID=America/New_York:20231018T093000
DTEND;TZID=America/New_York:20231018T133000
DTSTAMP:20260421T083120
CREATED:20230110T214326Z
LAST-MODIFIED:20230906T220716Z
UID:10000008-1697621400-1697635800@gardenclubofgeorgia.org
SUMMARY:Azalea District Annual Meeting 2023
DESCRIPTION:“Bee Part of the Hive” as the Azalea District hosts in annual District meeting at the Augusta Country Club. Journeyman Beekeeper Deborah Sasser is the keynote speaker. \nRegistration and Coffee at 9:30 a.m. \nBusiness Meeting at 10:00 a.m. \nRegister with Jan Stewart\, 722 Nancy Gunn Circle\, SE\, Crawfordville\, GA 30631 \nSee Registration information here. \n  \n  \n 
URL:https://gardenclubofgeorgia.org/event/azalea-district-annual-meeting/
LOCATION:Augusta Country Club\, 655 Milledge Rd.\, Augusta\, GA\, 30904\, United States
CATEGORIES:Azalea District
END:VEVENT
BEGIN:VEVENT
DTSTART;TZID=America/New_York:20230815T100000
DTEND;TZID=America/New_York:20230815T130000
DTSTAMP:20260421T083120
CREATED:20230517T213249Z
LAST-MODIFIED:20230517T213249Z
UID:10001334-1692093600-1692104400@gardenclubofgeorgia.org
SUMMARY:Azalea District Summer Board Meeting 2023
DESCRIPTION:
URL:https://gardenclubofgeorgia.org/event/azalea-district-summer-board-meeting-2023/
LOCATION:Greensboro\, GA
CATEGORIES:Azalea District
ATTACH;FMTTYPE=image/jpeg:https://gardenclubofgeorgia.org/wp-content/uploads/2023/03/Azalea-District-logoforDistricPage.jpg
END:VEVENT
BEGIN:VEVENT
DTSTART;TZID=America/New_York:20230801T100000
DTEND;TZID=America/New_York:20230801T140000
DTSTAMP:20260421T083120
CREATED:20230505T165705Z
LAST-MODIFIED:20230505T165705Z
UID:10001331-1690884000-1690898400@gardenclubofgeorgia.org
SUMMARY:Azalea District Executive Board Meeting
DESCRIPTION:
URL:https://gardenclubofgeorgia.org/event/azalea-district-executive-board-meeting/
LOCATION:Garden Club of Georgia Headquarters\, 2450 S. Milledge Ave.\, Athens\, Georgia\, 30602
CATEGORIES:Azalea District
ATTACH;FMTTYPE=image/jpeg:https://gardenclubofgeorgia.org/wp-content/uploads/2023/03/Azalea-District-logo-2016-jpg-e1734646048681.jpg
END:VEVENT
BEGIN:VEVENT
DTSTART;TZID=America/New_York:20230719T100000
DTEND;TZID=America/New_York:20230719T140000
DTSTAMP:20260421T083120
CREATED:20230120T010208Z
LAST-MODIFIED:20230622T195117Z
UID:10001283-1689760800-1689775200@gardenclubofgeorgia.org
SUMMARY:Awards and Leadership Workshop Azalea
DESCRIPTION:GCG holds its biennial Leadership and Awards workshop for Azalea District club leadership. Join GCG President Lisa Hall and GCG leadership for an interactive review club management\, grants\, membership tips\, communication tools\, and educational opportunities. Bring your laptop\, if you have one!  Registration form. \nFor Awards Workshops: Be aware of Changes:\nYou will receive a printed copy of the new GCG Awards Handbook and will learn the new process for applying for GCG Awards. If you wish to work on an actual award application at the workshop\, please bring your laptop and have a downloaded GCG Award Application Form – and … also have photos and information that you wish to use in the application. All venues do not have wifi to use\, so please download the GCG Awards Application before coming to the workshop. We will have time in the presentation for tips about preparing an application.\n\nFor Leadership Workshops: Be aware of Changes:\nChanges have occurred at the GCG Leadership level. New positions and other changes have evolved. The Leadership changes will be discussed\, and questions answered. Be at the workshop to see how this impacts your club. Additionally\, learn more about the new website.\n 
URL:https://gardenclubofgeorgia.org/event/leadership-and-awards-workshop-azalea/
LOCATION:Garden Club of Georgia Headquarters\, 2450 S. Milledge Ave.\, Athens\, Georgia\, 30602
CATEGORIES:Azalea District
ATTACH;FMTTYPE=image/png:https://gardenclubofgeorgia.org/wp-content/uploads/2023/01/Leadership.png
END:VEVENT
BEGIN:VEVENT
DTSTART;TZID=UTC:20230221T080000
DTEND;TZID=UTC:20230221T170000
DTSTAMP:20260421T083120
CREATED:20220712T000045Z
LAST-MODIFIED:20230215T223950Z
UID:10001237-1676966400-1676998800@gardenclubofgeorgia.org
SUMMARY:Azalea District Winter Board Meeting
DESCRIPTION:Azalea District winter board meeting. All board members required to attend. All club presidents invited to attend.
URL:https://gardenclubofgeorgia.org/event/azalea-district-winter-board-meeting/
LOCATION:TBD
CATEGORIES:Azalea District
END:VEVENT
BEGIN:VEVENT
DTSTART;TZID=UTC:20221006T100000
DTEND;TZID=UTC:20221006T140000
DTSTAMP:20260421T083120
CREATED:20220712T001652Z
LAST-MODIFIED:20230215T224353Z
UID:10001255-1665050400-1665064800@gardenclubofgeorgia.org
SUMMARY:Azalea District Fall Meeting
DESCRIPTION:Azalea District Fall Annual Meeting
URL:https://gardenclubofgeorgia.org/event/azalea-district-fall-meeting/
LOCATION:Athens Country Club\, 2700 N. Jefferson Rd.\, Athens\, GA\, 30607
CATEGORIES:Azalea District
END:VEVENT
BEGIN:VEVENT
DTSTART;TZID=UTC:20220823T090000
DTEND;TZID=UTC:20220823T130000
DTSTAMP:20260421T083120
CREATED:20220718T195151Z
LAST-MODIFIED:20230215T223901Z
UID:10001270-1661245200-1661259600@gardenclubofgeorgia.org
SUMMARY:Azalea District Executive Committee Meeting
DESCRIPTION:
URL:https://gardenclubofgeorgia.org/event/azalea-district-executive-committee-meeting/
LOCATION:Garden Club of Georgia Headquarters\, 2450 S. Milledge Ave.\, Athens\, Georgia\, 30602
CATEGORIES:Azalea District
END:VEVENT
END:VCALENDAR