BEGIN:VCALENDAR
VERSION:2.0
PRODID:-//The Garden Club of Georgia, Inc. - ECPv6.15.16.1//NONSGML v1.0//EN
CALSCALE:GREGORIAN
METHOD:PUBLISH
X-WR-CALNAME:The Garden Club of Georgia, Inc.
X-ORIGINAL-URL:https://gardenclubofgeorgia.org
X-WR-CALDESC:Events for The Garden Club of Georgia, Inc.
REFRESH-INTERVAL;VALUE=DURATION:PT1H
X-Robots-Tag:noindex
X-PUBLISHED-TTL:PT1H
BEGIN:VTIMEZONE
TZID:America/New_York
BEGIN:DAYLIGHT
TZOFFSETFROM:-0500
TZOFFSETTO:-0400
TZNAME:EDT
DTSTART:20220313T070000
END:DAYLIGHT
BEGIN:STANDARD
TZOFFSETFROM:-0400
TZOFFSETTO:-0500
TZNAME:EST
DTSTART:20221106T060000
END:STANDARD
BEGIN:DAYLIGHT
TZOFFSETFROM:-0500
TZOFFSETTO:-0400
TZNAME:EDT
DTSTART:20230312T070000
END:DAYLIGHT
BEGIN:STANDARD
TZOFFSETFROM:-0400
TZOFFSETTO:-0500
TZNAME:EST
DTSTART:20231105T060000
END:STANDARD
BEGIN:DAYLIGHT
TZOFFSETFROM:-0500
TZOFFSETTO:-0400
TZNAME:EDT
DTSTART:20240310T070000
END:DAYLIGHT
BEGIN:STANDARD
TZOFFSETFROM:-0400
TZOFFSETTO:-0500
TZNAME:EST
DTSTART:20241103T060000
END:STANDARD
BEGIN:DAYLIGHT
TZOFFSETFROM:-0500
TZOFFSETTO:-0400
TZNAME:EDT
DTSTART:20250309T070000
END:DAYLIGHT
BEGIN:STANDARD
TZOFFSETFROM:-0400
TZOFFSETTO:-0500
TZNAME:EST
DTSTART:20251102T060000
END:STANDARD
BEGIN:DAYLIGHT
TZOFFSETFROM:-0500
TZOFFSETTO:-0400
TZNAME:EDT
DTSTART:20260308T070000
END:DAYLIGHT
BEGIN:STANDARD
TZOFFSETFROM:-0400
TZOFFSETTO:-0500
TZNAME:EST
DTSTART:20261101T060000
END:STANDARD
END:VTIMEZONE
BEGIN:VEVENT
DTSTART;TZID=America/New_York:20250213T093000
DTEND;TZID=America/New_York:20250213T140000
DTSTAMP:20260421T222445
CREATED:20230726T142357Z
LAST-MODIFIED:20250108T225302Z
UID:10001365-1739439000-1739455200@gardenclubofgeorgia.org
SUMMARY:Magnolia District Winter Board Meeting 2025
DESCRIPTION:Thursday\, February 13\, 2025 \n9:30 am Registration           10 am Meeting \nThe Butler Garden Club is our hostess club. They are planning a special day and invite us all to share in it. Registration and coffee will begin at 9:30 am; the meeting will be called to order at 10:00 am. The meeting will be followed by a delicious lunch. \nYour prompt RSVP action is necessary in order to make food arrangements; therefore\, walk-ins are not permissible. Please complete and mail the registration form\, select a lunch option with your $25 check to Janis Webb to be received by Thursday\, February 6\, 2025\, or call her by that date. If board members have any questions or concerns prior to the meeting or cannot attend\, please let us know (webb2048@bellsouth.net or haglerkays@hotmail.com). We have missed you and we look forward to seeing you soon! (By the way\, all garden club members are invited to join us too.) \nSee call letter for the meeting and RSVP details \nLocation \nReynolds Trinity Church (Formerly Reynolds United Methodist Church) \n12 East Marion Street \n Reynolds\, Georgia \n     Cost: $25.00 \n 
URL:https://gardenclubofgeorgia.org/event/magnolia-district-winter-board-meeting-2025/
LOCATION:Reynolds Trinity Church\, 12 East Marion Street\, Reynolds\, GA
CATEGORIES:Magnolia District
ATTACH;FMTTYPE=image/jpeg:https://gardenclubofgeorgia.org/wp-content/uploads/2023/03/MagnoliaDistrictLogo-1.jpg
ORGANIZER;CN="Kay Hagler":MAILTO:haglerkay@gmail.com
END:VEVENT
BEGIN:VEVENT
DTSTART;TZID=America/New_York:20240813T093000
DTEND;TZID=America/New_York:20240813T140000
DTSTAMP:20260421T222445
CREATED:20230726T142139Z
LAST-MODIFIED:20240625T174650Z
UID:10001364-1723541400-1723557600@gardenclubofgeorgia.org
SUMMARY:Magnolia District Summer Board Meeting 2024
DESCRIPTION:Sizzling Summer Event\nMagnolia District Board Meeting\nDistrict Board Meeting on Tuesday\, August 13\, 2024\n9:30 am Registration\n10 am Meeting Location: Vienna Methodist Church 313 E Church Street\, Vienna\, Georgia \nRSVP by: Tuesday\, August 6\, 2024 \nTo register see the Call Letter below: \nCall letter august 13 Board Meeting \n  \n 
URL:https://gardenclubofgeorgia.org/event/magnolia-district-summer-board-meeting-2024/
LOCATION:Vienna Methodist Church\, 313 E Church Street\, Vienna\, Ga
CATEGORIES:Magnolia District
ATTACH;FMTTYPE=image/jpeg:https://gardenclubofgeorgia.org/wp-content/uploads/2023/03/MagnoliaDistrictLogo-1.jpg
ORGANIZER;CN="Kay Hagler":MAILTO:haglerkay@gmail.com
END:VEVENT
BEGIN:VEVENT
DTSTART;TZID=America/New_York:20240215T093000
DTEND;TZID=America/New_York:20240215T140000
DTSTAMP:20260421T222445
CREATED:20230726T141858Z
LAST-MODIFIED:20231213T181725Z
UID:10001363-1707989400-1708005600@gardenclubofgeorgia.org
SUMMARY:Magnolia District Winter Board Meeting 2024
DESCRIPTION:The Beautiful View Garden Club of Buena Vista is our host garden club with Ann Howell\, First Vice – President and Claudine Morgan\, Second Vice Chairman as the events chairmen. They are planning a special day and invite all to share in it. \nCoffee and registration will begin at 9:30 a.m. The meeting will be called to order at 10:00 a.m. and will be followed by lunch and pictures. \nYour prompt RSVP action is necessary to finalize the event and provide an accurate count to the caterer. Please complete and mail the registration form with your check to Janis Webb to be received by Thursday\, February 8\, 2024\, or call and text by that date so you can attend. Janis will acknowledge your registration form receipt so we can save you a seat. It has been a while\, and we look forward to seeing you there! Please join us. \nFebruary 15 24 Call Letter Magnolia District \n 
URL:https://gardenclubofgeorgia.org/event/magnolia-district-winter-board-meeting-2024/
LOCATION:First Baptist Church Buena Vista\, 135 4th Avenue\, Buena Vista\, Georgia\, 31803
CATEGORIES:Magnolia District
ATTACH;FMTTYPE=image/jpeg:https://gardenclubofgeorgia.org/wp-content/uploads/2023/03/MagnoliaDistrictLogo-1.jpg
ORGANIZER;CN="Kay Hagler":MAILTO:haglerkay@gmail.com
END:VEVENT
BEGIN:VEVENT
DTSTART;TZID=America/New_York:20230208T093000
DTEND;TZID=America/New_York:20230208T133000
DTSTAMP:20260421T222445
CREATED:20230112T133429Z
LAST-MODIFIED:20230112T133429Z
UID:10001276-1675848600-1675863000@gardenclubofgeorgia.org
SUMMARY:Magnolia District Board Meeting
DESCRIPTION:The Magnolia District Board Winter Board Meeting will be held at the Fort Gaines Presbyterian Church. Please RSVP by February 2 to Nilsa Summey or Kay Hagler. Coffee starts at 9:30 a.m. with meeting to follow at 10:00 a.m. Lunch will be served. Cost is $20. \nCall Letter and Registration
URL:https://gardenclubofgeorgia.org/event/magnolia-district-board-meeting/
LOCATION:Fort Gaines Presbyterian Church\, 101 Jefferson St.\, Fort Gaines\, Georgia\, 39851
CATEGORIES:Magnolia District
ORGANIZER;CN="Magnolia District":MAILTO:mwaldrich1@aol.com
END:VEVENT
END:VCALENDAR