BEGIN:VCALENDAR
VERSION:2.0
PRODID:-//The Garden Club of Georgia, Inc. - ECPv6.15.16.1//NONSGML v1.0//EN
CALSCALE:GREGORIAN
METHOD:PUBLISH
X-ORIGINAL-URL:https://gardenclubofgeorgia.org
X-WR-CALDESC:Events for The Garden Club of Georgia, Inc.
REFRESH-INTERVAL;VALUE=DURATION:PT1H
X-Robots-Tag:noindex
X-PUBLISHED-TTL:PT1H
BEGIN:VTIMEZONE
TZID:America/New_York
BEGIN:DAYLIGHT
TZOFFSETFROM:-0500
TZOFFSETTO:-0400
TZNAME:EDT
DTSTART:20220313T070000
END:DAYLIGHT
BEGIN:STANDARD
TZOFFSETFROM:-0400
TZOFFSETTO:-0500
TZNAME:EST
DTSTART:20221106T060000
END:STANDARD
BEGIN:DAYLIGHT
TZOFFSETFROM:-0500
TZOFFSETTO:-0400
TZNAME:EDT
DTSTART:20230312T070000
END:DAYLIGHT
BEGIN:STANDARD
TZOFFSETFROM:-0400
TZOFFSETTO:-0500
TZNAME:EST
DTSTART:20231105T060000
END:STANDARD
BEGIN:DAYLIGHT
TZOFFSETFROM:-0500
TZOFFSETTO:-0400
TZNAME:EDT
DTSTART:20240310T070000
END:DAYLIGHT
BEGIN:STANDARD
TZOFFSETFROM:-0400
TZOFFSETTO:-0500
TZNAME:EST
DTSTART:20241103T060000
END:STANDARD
BEGIN:DAYLIGHT
TZOFFSETFROM:-0500
TZOFFSETTO:-0400
TZNAME:EDT
DTSTART:20250309T070000
END:DAYLIGHT
BEGIN:STANDARD
TZOFFSETFROM:-0400
TZOFFSETTO:-0500
TZNAME:EST
DTSTART:20251102T060000
END:STANDARD
END:VTIMEZONE
BEGIN:VEVENT
DTSTART;TZID=America/New_York:20240924T080000
DTEND;TZID=America/New_York:20240929T170000
DTSTAMP:20260421T192949
CREATED:20240507T155423Z
LAST-MODIFIED:20240507T155423Z
UID:10001318-1727164800-1727629200@gardenclubofgeorgia.org
SUMMARY:North Georgia State Fair Part 2
DESCRIPTION:The Marietta Council of the Laurel District will hold two flower shows at Jim Miller park in Marietta. Details to follow. NorthGeorgiaStateFair.com \n2nd Flower Show Judging September 25\n\nQuestions – contact\nHolly Walquist\nOverall Chair- Flower Show\nNorth Georgia State Fair 2024\n770-424-4664\n\nCell: 404-518-4664\nhollywalquist@icloud.com
URL:https://gardenclubofgeorgia.org/event/north-georgia-state-fair-part-2/
LOCATION:Jim R. Miller Park\, 2245 Callaway Rd.\, Marietta\, Georgia\, 30008
CATEGORIES:Dogwood District,Laurel District,Redbud District
END:VEVENT
BEGIN:VEVENT
DTSTART;TZID=America/New_York:20240918T080000
DTEND;TZID=America/New_York:20240924T170000
DTSTAMP:20260421T192949
CREATED:20240507T155101Z
LAST-MODIFIED:20240507T155101Z
UID:10001316-1726646400-1727197200@gardenclubofgeorgia.org
SUMMARY:North Georgia State Fair Flower Show Part 1
DESCRIPTION:The Marietta Council of the Laurel District will hold two flower shows at Jim Miller park in Marietta. Details to follow. NorthGeorgiaStateFair.com \n1st Flower Show Judging: September 19\, 2024\n\nQuestions – contact\nHolly Walquist\nOverall Chair- Flower Show\nNorth Georgia State Fair 2024\n\n770-424-4664\nCell: 404-518-4664\nhollywalquist@icloud.com
URL:https://gardenclubofgeorgia.org/event/north-georgia-state-fair-flower-show-part-1/
LOCATION:Jim R. Miller Park\, 2245 Callaway Rd.\, Marietta\, Georgia\, 30008
CATEGORIES:Dogwood District,Laurel District,Redbud District
END:VEVENT
BEGIN:VEVENT
DTSTART;TZID=America/New_York:20230926T080000
DTEND;TZID=America/New_York:20231001T170000
DTSTAMP:20260421T192949
CREATED:20230501T171439Z
LAST-MODIFIED:20230501T171439Z
UID:10001329-1695715200-1696179600@gardenclubofgeorgia.org
SUMMARY:North Georgia Fair Flower Show Part II
DESCRIPTION:The second part of the North Georgia Fair Flower Show will be held from September 26 through October 1. Judging will take place on September 27.
URL:https://gardenclubofgeorgia.org/event/north-georgia-fair-flower-show-part-ii/
LOCATION:Jim R. Miller Park\, 2245 Callaway Rd.\, Marietta\, Georgia\, 30008
CATEGORIES:Laurel District
END:VEVENT
BEGIN:VEVENT
DTSTART;TZID=America/New_York:20230921T080000
DTEND;TZID=America/New_York:20230926T170000
DTSTAMP:20260421T192949
CREATED:20230501T171101Z
LAST-MODIFIED:20230501T171101Z
UID:10001328-1695283200-1695747600@gardenclubofgeorgia.org
SUMMARY:North Georgia Flower Show Part I
DESCRIPTION:The North Georgia Fair flower show sponsored by the Marietta Council of Garden Clubs will be held at Jim Miller Park. Details are forthcoming. Judging on September 21.
URL:https://gardenclubofgeorgia.org/event/north-georgia-flower-show-part-i/
LOCATION:Jim R. Miller Park\, 2245 Callaway Rd.\, Marietta\, Georgia\, 30008
END:VEVENT
END:VCALENDAR