BEGIN:VCALENDAR
VERSION:2.0
PRODID:-//The Garden Club of Georgia, Inc. - ECPv6.15.16.1//NONSGML v1.0//EN
CALSCALE:GREGORIAN
METHOD:PUBLISH
X-ORIGINAL-URL:https://gardenclubofgeorgia.org
X-WR-CALDESC:Events for The Garden Club of Georgia, Inc.
REFRESH-INTERVAL;VALUE=DURATION:PT1H
X-Robots-Tag:noindex
X-PUBLISHED-TTL:PT1H
BEGIN:VTIMEZONE
TZID:America/New_York
BEGIN:DAYLIGHT
TZOFFSETFROM:-0500
TZOFFSETTO:-0400
TZNAME:EDT
DTSTART:20230312T070000
END:DAYLIGHT
BEGIN:STANDARD
TZOFFSETFROM:-0400
TZOFFSETTO:-0500
TZNAME:EST
DTSTART:20231105T060000
END:STANDARD
BEGIN:DAYLIGHT
TZOFFSETFROM:-0500
TZOFFSETTO:-0400
TZNAME:EDT
DTSTART:20240310T070000
END:DAYLIGHT
BEGIN:STANDARD
TZOFFSETFROM:-0400
TZOFFSETTO:-0500
TZNAME:EST
DTSTART:20241103T060000
END:STANDARD
BEGIN:DAYLIGHT
TZOFFSETFROM:-0500
TZOFFSETTO:-0400
TZNAME:EDT
DTSTART:20250309T070000
END:DAYLIGHT
BEGIN:STANDARD
TZOFFSETFROM:-0400
TZOFFSETTO:-0500
TZNAME:EST
DTSTART:20251102T060000
END:STANDARD
END:VTIMEZONE
BEGIN:VEVENT
DTSTART;TZID=America/New_York:20240215T093000
DTEND;TZID=America/New_York:20240215T140000
DTSTAMP:20260422T011957
CREATED:20230726T141858Z
LAST-MODIFIED:20231213T181725Z
UID:10001363-1707989400-1708005600@gardenclubofgeorgia.org
SUMMARY:Magnolia District Winter Board Meeting 2024
DESCRIPTION:The Beautiful View Garden Club of Buena Vista is our host garden club with Ann Howell\, First Vice – President and Claudine Morgan\, Second Vice Chairman as the events chairmen. They are planning a special day and invite all to share in it. \nCoffee and registration will begin at 9:30 a.m. The meeting will be called to order at 10:00 a.m. and will be followed by lunch and pictures. \nYour prompt RSVP action is necessary to finalize the event and provide an accurate count to the caterer. Please complete and mail the registration form with your check to Janis Webb to be received by Thursday\, February 8\, 2024\, or call and text by that date so you can attend. Janis will acknowledge your registration form receipt so we can save you a seat. It has been a while\, and we look forward to seeing you there! Please join us. \nFebruary 15 24 Call Letter Magnolia District \n 
URL:https://gardenclubofgeorgia.org/event/magnolia-district-winter-board-meeting-2024/
LOCATION:First Baptist Church Buena Vista\, 135 4th Avenue\, Buena Vista\, Georgia\, 31803
CATEGORIES:Magnolia District
ATTACH;FMTTYPE=image/jpeg:https://gardenclubofgeorgia.org/wp-content/uploads/2023/03/MagnoliaDistrictLogo-1.jpg
ORGANIZER;CN="Kay Hagler":MAILTO:haglerkay@gmail.com
END:VEVENT
END:VCALENDAR