BEGIN:VCALENDAR
VERSION:2.0
PRODID:-//The Garden Club of Georgia, Inc. - ECPv6.15.16.1//NONSGML v1.0//EN
CALSCALE:GREGORIAN
METHOD:PUBLISH
X-ORIGINAL-URL:https://gardenclubofgeorgia.org
X-WR-CALDESC:Events for The Garden Club of Georgia, Inc.
REFRESH-INTERVAL;VALUE=DURATION:PT1H
X-Robots-Tag:noindex
X-PUBLISHED-TTL:PT1H
BEGIN:VTIMEZONE
TZID:America/New_York
BEGIN:DAYLIGHT
TZOFFSETFROM:-0500
TZOFFSETTO:-0400
TZNAME:EDT
DTSTART:20220313T070000
END:DAYLIGHT
BEGIN:STANDARD
TZOFFSETFROM:-0400
TZOFFSETTO:-0500
TZNAME:EST
DTSTART:20221106T060000
END:STANDARD
BEGIN:DAYLIGHT
TZOFFSETFROM:-0500
TZOFFSETTO:-0400
TZNAME:EDT
DTSTART:20230312T070000
END:DAYLIGHT
BEGIN:STANDARD
TZOFFSETFROM:-0400
TZOFFSETTO:-0500
TZNAME:EST
DTSTART:20231105T060000
END:STANDARD
BEGIN:DAYLIGHT
TZOFFSETFROM:-0500
TZOFFSETTO:-0400
TZNAME:EDT
DTSTART:20240310T070000
END:DAYLIGHT
BEGIN:STANDARD
TZOFFSETFROM:-0400
TZOFFSETTO:-0500
TZNAME:EST
DTSTART:20241103T060000
END:STANDARD
BEGIN:DAYLIGHT
TZOFFSETFROM:-0500
TZOFFSETTO:-0400
TZNAME:EDT
DTSTART:20250309T070000
END:DAYLIGHT
BEGIN:STANDARD
TZOFFSETFROM:-0400
TZOFFSETTO:-0500
TZNAME:EST
DTSTART:20251102T060000
END:STANDARD
BEGIN:DAYLIGHT
TZOFFSETFROM:-0500
TZOFFSETTO:-0400
TZNAME:EDT
DTSTART:20260308T070000
END:DAYLIGHT
BEGIN:STANDARD
TZOFFSETFROM:-0400
TZOFFSETTO:-0500
TZNAME:EST
DTSTART:20261101T060000
END:STANDARD
END:VTIMEZONE
BEGIN:VEVENT
DTSTART;TZID=America/New_York:20251014T090000
DTEND;TZID=America/New_York:20251014T140000
DTSTAMP:20260421T180320
CREATED:20250219T211252Z
LAST-MODIFIED:20250826T215005Z
UID:10001481-1760432400-1760450400@gardenclubofgeorgia.org
SUMMARY:Camellia District Annual Fall Meeting 2025
DESCRIPTION:The Camellia District cordially invites you to attend our Annual Fall Meeting\n“Harvest of Beauty”  \nHosted by Erin Garden Club of Dublin & Green Acres Garden Club \nTuesday\, October 14\, 2025 \nFirst Baptist Church\, Family Life Center \n108 Maiden Lane Dublin\, GA \n9:00 AM – Registration\, Coffee & Pastries\, Camellia Market Place \nPlease come early and enjoy shopping\, purchase your raffle tickets for baskets and view our Committee Chairmen exhibits \n10:00 AM  – Business Meeting\, Honored Guest: Diane Hunter\, President of Garden Club of Georgia \nFeatured Program: \nBeth Meeks\, Southern Marketing Coordinator \nDept. of Agriculture\, “Highway 41/341 Georgia Grown”  \nClick Here for Registration \nDeadline for Registration TO BE RECEIVED is Tuesday\, September 30\, 2025  \n 
URL:https://gardenclubofgeorgia.org/event/camellia-district-annual-meeting-2025/
LOCATION:First Baptist Church Family Center\, 108 Maiden Lane\, Dublin\, GA\, 31021\, United States
CATEGORIES:Camellia District
END:VEVENT
BEGIN:VEVENT
DTSTART;TZID=America/New_York:20230210T093000
DTEND;TZID=America/New_York:20230210T133000
DTSTAMP:20260421T180320
CREATED:20230128T000454Z
LAST-MODIFIED:20230128T214020Z
UID:10000011-1676021400-1676035800@gardenclubofgeorgia.org
SUMMARY:Camellia District Board Meeting
DESCRIPTION:Camellia District Winter Board Meeting. Coffee at 9:30 a.m. with Business Meeting to follow at 10:00 a.m. Lunch is served at 11:30 a.m. Please RSVP by February 1 to Annelle Moore. \nFlyer and Registration \nMake check payable to Camellia District and mail to: \n Annelle Moore \n341 Wesley Circle\nMacon\, Georgia 31204 \nPhone: 404-210-7102
URL:https://gardenclubofgeorgia.org/event/camellia-district-board-meeting/
LOCATION:First Baptist Church Family Center\, 108 Maiden Lane\, Dublin\, GA\, 31021\, United States
CATEGORIES:Camellia District
END:VEVENT
END:VCALENDAR