BEGIN:VCALENDAR
VERSION:2.0
PRODID:-//The Garden Club of Georgia, Inc. - ECPv6.15.16.1//NONSGML v1.0//EN
CALSCALE:GREGORIAN
METHOD:PUBLISH
X-WR-CALNAME:The Garden Club of Georgia, Inc.
X-ORIGINAL-URL:https://gardenclubofgeorgia.org
X-WR-CALDESC:Events for The Garden Club of Georgia, Inc.
REFRESH-INTERVAL;VALUE=DURATION:PT1H
X-Robots-Tag:noindex
X-PUBLISHED-TTL:PT1H
BEGIN:VTIMEZONE
TZID:America/New_York
BEGIN:DAYLIGHT
TZOFFSETFROM:-0500
TZOFFSETTO:-0400
TZNAME:EDT
DTSTART:20230312T070000
END:DAYLIGHT
BEGIN:STANDARD
TZOFFSETFROM:-0400
TZOFFSETTO:-0500
TZNAME:EST
DTSTART:20231105T060000
END:STANDARD
BEGIN:DAYLIGHT
TZOFFSETFROM:-0500
TZOFFSETTO:-0400
TZNAME:EDT
DTSTART:20240310T070000
END:DAYLIGHT
BEGIN:STANDARD
TZOFFSETFROM:-0400
TZOFFSETTO:-0500
TZNAME:EST
DTSTART:20241103T060000
END:STANDARD
BEGIN:DAYLIGHT
TZOFFSETFROM:-0500
TZOFFSETTO:-0400
TZNAME:EDT
DTSTART:20250309T070000
END:DAYLIGHT
BEGIN:STANDARD
TZOFFSETFROM:-0400
TZOFFSETTO:-0500
TZNAME:EST
DTSTART:20251102T060000
END:STANDARD
BEGIN:DAYLIGHT
TZOFFSETFROM:-0500
TZOFFSETTO:-0400
TZNAME:EDT
DTSTART:20260308T070000
END:DAYLIGHT
BEGIN:STANDARD
TZOFFSETFROM:-0400
TZOFFSETTO:-0500
TZNAME:EST
DTSTART:20261101T060000
END:STANDARD
END:VTIMEZONE
BEGIN:VEVENT
DTSTART;TZID=America/New_York:20250627T140000
DTEND;TZID=America/New_York:20250627T180000
DTSTAMP:20260422T003429
CREATED:20250322T152721Z
LAST-MODIFIED:20250322T152831Z
UID:10003656-1751032800-1751047200@gardenclubofgeorgia.org
SUMMARY:Art in the Garden Flower Show
DESCRIPTION:The Garden Club of Ellijay will hold Art in the Garden\, an NGC standard flower show on Friday\, June 27 and Saturday\, June 28.  For additional information contact Show Chairman Kathy Shiner.
URL:https://gardenclubofgeorgia.org/event/art-in-the-garden-flower-show/
LOCATION:Gilmer Sequoia Regional Library\, 268 Calvin Jackson Drive\, Ellijay\, GA\, 30540
CATEGORIES:Laurel District
END:VEVENT
BEGIN:VEVENT
DTSTART;TZID=America/New_York:20240820T103000
DTEND;TZID=America/New_York:20240820T133000
DTSTAMP:20260422T003429
CREATED:20240723T193605Z
LAST-MODIFIED:20240723T214520Z
UID:10001437-1724149800-1724160600@gardenclubofgeorgia.org
SUMMARY:Laurel District Board Meeting and Lunch 2024
DESCRIPTION:Location:  Gilmer/Sequoyah Regional Library\n268 Calvin Jackson Dr\nEllijay\, Ga 30540\n\nLunch choices:\n1. Ham Sandwich\n2. Turkey Sandwich\n3. Veggie Wrap\n\nMeals come with chopped salad\, chips and drink.\n\nRSVP by Tuesday 8/13\n\nSend check ($25 made out to Laurel District) & menu choice to:\nDee Anne Wyse\n37 Waterside Dr\nEmerson\, Ga 30121\n  \n  \n  \n 
URL:https://gardenclubofgeorgia.org/event/laurel-district-board-meeting-and-lunch-2024/
LOCATION:Gilmer Sequoia Regional Library\, 268 Calvin Jackson Drive\, Ellijay\, GA\, 30540
CATEGORIES:Laurel District
END:VEVENT
END:VCALENDAR