BEGIN:VCALENDAR
VERSION:2.0
PRODID:-//The Garden Club of Georgia, Inc. - ECPv6.15.16.1//NONSGML v1.0//EN
CALSCALE:GREGORIAN
METHOD:PUBLISH
X-ORIGINAL-URL:https://gardenclubofgeorgia.org
X-WR-CALDESC:Events for The Garden Club of Georgia, Inc.
REFRESH-INTERVAL;VALUE=DURATION:PT1H
X-Robots-Tag:noindex
X-PUBLISHED-TTL:PT1H
BEGIN:VTIMEZONE
TZID:UTC
BEGIN:STANDARD
TZOFFSETFROM:+0000
TZOFFSETTO:+0000
TZNAME:UTC
DTSTART:20210101T000000
END:STANDARD
END:VTIMEZONE
BEGIN:VEVENT
DTSTART;TZID=UTC:20220913T140000
DTEND;TZID=UTC:20220914T110000
DTSTAMP:20260422T021903
CREATED:20220718T221217Z
LAST-MODIFIED:20230215T224155Z
UID:10001272-1663077600-1663153200@gardenclubofgeorgia.org
SUMMARY:GCG Fall Board Meeting
DESCRIPTION:Fall Board Meeting at Lake Blackshear Resort\, Cordele\, GA. All Board members required to attend. \nCall letter \nSchedule and Registration forms \nRegister online \n 
URL:https://gardenclubofgeorgia.org/event/gcg-fall-board-meeting/
LOCATION:Lake Blackshear Resort and Golf Club\, 2459 Highway 280 W\, Cordele\, GA\, 31015
CATEGORIES:Garden Club of Georgia
END:VEVENT
END:VCALENDAR