BEGIN:VCALENDAR
VERSION:2.0
PRODID:-//The Garden Club of Georgia, Inc. - ECPv6.15.16.1//NONSGML v1.0//EN
CALSCALE:GREGORIAN
METHOD:PUBLISH
X-ORIGINAL-URL:https://gardenclubofgeorgia.org
X-WR-CALDESC:Events for The Garden Club of Georgia, Inc.
REFRESH-INTERVAL;VALUE=DURATION:PT1H
X-Robots-Tag:noindex
X-PUBLISHED-TTL:PT1H
BEGIN:VTIMEZONE
TZID:America/New_York
BEGIN:DAYLIGHT
TZOFFSETFROM:-0500
TZOFFSETTO:-0400
TZNAME:EDT
DTSTART:20250309T070000
END:DAYLIGHT
BEGIN:STANDARD
TZOFFSETFROM:-0400
TZOFFSETTO:-0500
TZNAME:EST
DTSTART:20251102T060000
END:STANDARD
BEGIN:DAYLIGHT
TZOFFSETFROM:-0500
TZOFFSETTO:-0400
TZNAME:EDT
DTSTART:20260308T070000
END:DAYLIGHT
BEGIN:STANDARD
TZOFFSETFROM:-0400
TZOFFSETTO:-0500
TZNAME:EST
DTSTART:20261101T060000
END:STANDARD
BEGIN:DAYLIGHT
TZOFFSETFROM:-0500
TZOFFSETTO:-0400
TZNAME:EDT
DTSTART:20270314T070000
END:DAYLIGHT
BEGIN:STANDARD
TZOFFSETFROM:-0400
TZOFFSETTO:-0500
TZNAME:EST
DTSTART:20271107T060000
END:STANDARD
END:VTIMEZONE
BEGIN:VEVENT
DTSTART;TZID=America/New_York:20260205T093000
DTEND;TZID=America/New_York:20260205T140000
DTSTAMP:20260422T002716
CREATED:20251126T154523Z
LAST-MODIFIED:20260116T173138Z
UID:10003775-1770283800-1770300000@gardenclubofgeorgia.org
SUMMARY:Magnolia District Winter Board Meeting 2026
DESCRIPTION:The Magnolia District Winter Board Meeting 2026 will be held on February 5\, 2026.\nClick here for call letter and registration form \nThursday\, February 5\, 2026\nRSVP by Tuesday\, January 27\, 2026\n9:30 am Registration 10 am Meeting\nOglethorpe Police Dept/Business Center\n500 Sumter St.\nOglethorpe\, Georgia\nCost: $30.00 \n 
URL:https://gardenclubofgeorgia.org/event/magnolia-district-winter-board-meeting-2026/
LOCATION:Oglethorpe Police Dept/Business Center\, 500 Sumter St.\, Oglethorpe\, GA\, 31068\, United States
CATEGORIES:Magnolia District
ATTACH;FMTTYPE=image/jpeg:https://gardenclubofgeorgia.org/wp-content/uploads/2023/03/Magnolia-Pin-Logo-final.jpg
ORGANIZER;CN="Magnolia District":MAILTO:mwaldrich1@aol.com
END:VEVENT
END:VCALENDAR