BEGIN:VCALENDAR
VERSION:2.0
PRODID:-//The Garden Club of Georgia, Inc. - ECPv6.15.16.1//NONSGML v1.0//EN
CALSCALE:GREGORIAN
METHOD:PUBLISH
X-WR-CALNAME:The Garden Club of Georgia, Inc.
X-ORIGINAL-URL:https://gardenclubofgeorgia.org
X-WR-CALDESC:Events for The Garden Club of Georgia, Inc.
REFRESH-INTERVAL;VALUE=DURATION:PT1H
X-Robots-Tag:noindex
X-PUBLISHED-TTL:PT1H
BEGIN:VTIMEZONE
TZID:America/New_York
BEGIN:DAYLIGHT
TZOFFSETFROM:-0500
TZOFFSETTO:-0400
TZNAME:EDT
DTSTART:20240310T070000
END:DAYLIGHT
BEGIN:STANDARD
TZOFFSETFROM:-0400
TZOFFSETTO:-0500
TZNAME:EST
DTSTART:20241103T060000
END:STANDARD
BEGIN:DAYLIGHT
TZOFFSETFROM:-0500
TZOFFSETTO:-0400
TZNAME:EDT
DTSTART:20250309T070000
END:DAYLIGHT
BEGIN:STANDARD
TZOFFSETFROM:-0400
TZOFFSETTO:-0500
TZNAME:EST
DTSTART:20251102T060000
END:STANDARD
BEGIN:DAYLIGHT
TZOFFSETFROM:-0500
TZOFFSETTO:-0400
TZNAME:EDT
DTSTART:20260308T070000
END:DAYLIGHT
BEGIN:STANDARD
TZOFFSETFROM:-0400
TZOFFSETTO:-0500
TZNAME:EST
DTSTART:20261101T060000
END:STANDARD
BEGIN:DAYLIGHT
TZOFFSETFROM:-0500
TZOFFSETTO:-0400
TZNAME:EDT
DTSTART:20270314T070000
END:DAYLIGHT
BEGIN:STANDARD
TZOFFSETFROM:-0400
TZOFFSETTO:-0500
TZNAME:EST
DTSTART:20271107T060000
END:STANDARD
END:VTIMEZONE
BEGIN:VEVENT
DTSTART;TZID=America/New_York:20260121T090000
DTEND;TZID=America/New_York:20260121T120000
DTSTAMP:20260421T172142
CREATED:20250530T153757Z
LAST-MODIFIED:20251219T171629Z
UID:10003686-1768986000-1768996800@gardenclubofgeorgia.org
SUMMARY:Dogwood District Winter Board Meeting 2026
DESCRIPTION:Refreshments beginning at 9:00am and the meeting at 9:30am. \nPeachtree Road United Methodist Church\, The Harp STUDENTS Center\, Room H105-1016\, 3180 Peachtree Road\, NE\, Atlanta\, 30305.  This building is BEHIND the Church across Mathieson Rd.  Park in the Green Lot (map below)
URL:https://gardenclubofgeorgia.org/event/dogwood-district-winter-board-meeting-2026/
LOCATION:Peachtree Road United Methodist Church\, 3180 Peachtree Road\, NE\, Atlanta\, Georgia\, 30305
CATEGORIES:Dogwood District
END:VEVENT
BEGIN:VEVENT
DTSTART;TZID=America/New_York:20251021T090000
DTEND;TZID=America/New_York:20251021T140000
DTSTAMP:20260421T172142
CREATED:20250219T212418Z
LAST-MODIFIED:20250909T154048Z
UID:10001484-1761037200-1761055200@gardenclubofgeorgia.org
SUMMARY:Dogwood District Annual Fall Meeting 2025
DESCRIPTION:The Dogwood District’s Annual Fall Meeting will be held on Tuesday\, October 21\, 2025.\nPeachtree Road United Methodist Church\nGrace Hall\n3180 Peachtree Road\, NE\nAtlanta\, GA 30305 \nHonored Guest: Diane Hunter\, President\, Garden Club of Georgia\nFeatured Speaker: Sarah Carter\, VP\, Goizueta Gardens\, Atlanta History Center \nHosted By:\nGardenia Garden Club\, Greystone Garden Club\, Mimosa Garden Club\,\nPeachtree Battle Garden Club\, Rose Garden Club\, Planters Garden Club \nClick here for the Meeting Invitation and Full Details \nClick here for the Online Registration Form \nLate Registration after September 26th. \nDEADLINE FOR REGISTRATION IS October 3\, 2025 \n  \nClick here for the Hotel Block at Hyatt Place \nBook the hotel block by September 19.
URL:https://gardenclubofgeorgia.org/event/dogwood-district-annual-meeting-2025/
LOCATION:Peachtree Road United Methodist Church\, 3180 Peachtree Road\, NE\, Atlanta\, Georgia\, 30305
CATEGORIES:Dogwood District
END:VEVENT
END:VCALENDAR