BEGIN:VCALENDAR
VERSION:2.0
PRODID:-//The Garden Club of Georgia, Inc. - ECPv6.15.16.1//NONSGML v1.0//EN
CALSCALE:GREGORIAN
METHOD:PUBLISH
X-WR-CALNAME:The Garden Club of Georgia, Inc.
X-ORIGINAL-URL:https://gardenclubofgeorgia.org
X-WR-CALDESC:Events for The Garden Club of Georgia, Inc.
REFRESH-INTERVAL;VALUE=DURATION:PT1H
X-Robots-Tag:noindex
X-PUBLISHED-TTL:PT1H
BEGIN:VTIMEZONE
TZID:America/New_York
BEGIN:DAYLIGHT
TZOFFSETFROM:-0500
TZOFFSETTO:-0400
TZNAME:EDT
DTSTART:20220313T070000
END:DAYLIGHT
BEGIN:STANDARD
TZOFFSETFROM:-0400
TZOFFSETTO:-0500
TZNAME:EST
DTSTART:20221106T060000
END:STANDARD
BEGIN:DAYLIGHT
TZOFFSETFROM:-0500
TZOFFSETTO:-0400
TZNAME:EDT
DTSTART:20230312T070000
END:DAYLIGHT
BEGIN:STANDARD
TZOFFSETFROM:-0400
TZOFFSETTO:-0500
TZNAME:EST
DTSTART:20231105T060000
END:STANDARD
BEGIN:DAYLIGHT
TZOFFSETFROM:-0500
TZOFFSETTO:-0400
TZNAME:EDT
DTSTART:20240310T070000
END:DAYLIGHT
BEGIN:STANDARD
TZOFFSETFROM:-0400
TZOFFSETTO:-0500
TZNAME:EST
DTSTART:20241103T060000
END:STANDARD
END:VTIMEZONE
BEGIN:VEVENT
DTSTART;TZID=America/New_York:20230506T000000
DTEND;TZID=America/New_York:20230506T000000
DTSTAMP:20260422T011656
CREATED:20230501T173454Z
LAST-MODIFIED:20230505T201323Z
UID:10001330-1683331200-1683331200@gardenclubofgeorgia.org
SUMMARY:Wildflower Workshop
DESCRIPTION:The Fringed Campion Chapter of the Georgia Native Plant Society will host a workshop\, Roadsides\, Wildflowers and Pollinators in Macon\, Georgia. GDOT Landscape Architect Manager\, Felicity Davis\, will discuss the Georgia Department of Transportation (Georgia DOT)’s Roadside Wildflower Program\, and their partnerships to help pollinators. Learn about the Georgia Association of Conservation Districts (GACD) installation of habitats and ongoing research with The Ray. \n 
URL:https://gardenclubofgeorgia.org/event/wildflower-workshop/
LOCATION:Willet Science Center Auditorium\, Coleman Avenue\, Macon\, Georgia\, 31207
CATEGORIES:Camellia District,Garden Club of Georgia
END:VEVENT
END:VCALENDAR